BEGIN:VCALENDAR
VERSION:2.0
PRODID:-//Friendship People - ECPv6.15.18//NONSGML v1.0//EN
CALSCALE:GREGORIAN
METHOD:PUBLISH
X-WR-CALNAME:Friendship People
X-ORIGINAL-URL:https://friendshippeople.com
X-WR-CALDESC:Events for Friendship People
REFRESH-INTERVAL;VALUE=DURATION:PT1H
X-Robots-Tag:noindex
X-PUBLISHED-TTL:PT1H
BEGIN:VTIMEZONE
TZID:UTC
BEGIN:STANDARD
TZOFFSETFROM:+0000
TZOFFSETTO:+0000
TZNAME:UTC
DTSTART:20220101T000000
END:STANDARD
END:VTIMEZONE
BEGIN:VEVENT
DTSTART;TZID=UTC:20230703T193000
DTEND;TZID=UTC:20230703T193000
DTSTAMP:20260420T081246
CREATED:20230703T173158Z
LAST-MODIFIED:20230703T173158Z
UID:517-1688412600-1688412600@friendshippeople.com
SUMMARY:MONDAY NIGHT PRAYER
DESCRIPTION:
URL:https://friendshippeople.com/event/monday-night-prayer-13/
END:VEVENT
END:VCALENDAR