BEGIN:VCALENDAR
VERSION:2.0
PRODID:-//Friendship People - ECPv6.15.20//NONSGML v1.0//EN
CALSCALE:GREGORIAN
METHOD:PUBLISH
X-WR-CALNAME:Friendship People
X-ORIGINAL-URL:https://friendshippeople.com
X-WR-CALDESC:Events for Friendship People
REFRESH-INTERVAL;VALUE=DURATION:PT1H
X-Robots-Tag:noindex
X-PUBLISHED-TTL:PT1H
BEGIN:VTIMEZONE
TZID:UTC
BEGIN:STANDARD
TZOFFSETFROM:+0000
TZOFFSETTO:+0000
TZNAME:UTC
DTSTART:20240101T000000
END:STANDARD
END:VTIMEZONE
BEGIN:VEVENT
DTSTART;TZID=UTC:20250202T093000
DTEND;TZID=UTC:20250202T093000
DTSTAMP:20260423T094526
CREATED:20250201T011137Z
LAST-MODIFIED:20250201T011137Z
UID:1252-1738488600-1738488600@friendshippeople.com
SUMMARY:Sunday School
DESCRIPTION:
URL:https://friendshippeople.com/event/sunday-school-14/
END:VEVENT
BEGIN:VEVENT
DTSTART;TZID=UTC:20250202T103000
DTEND;TZID=UTC:20250202T103000
DTSTAMP:20260423T094526
CREATED:20250201T011630Z
LAST-MODIFIED:20250201T012857Z
UID:1261-1738492200-1738492200@friendshippeople.com
SUMMARY:Sunday Morning Worship
DESCRIPTION:Then Moses said\, “Now show me your glory.”  Exodus 33:18
URL:https://friendshippeople.com/event/sunday-morning-worship-97/
END:VEVENT
END:VCALENDAR