BEGIN:VCALENDAR
VERSION:2.0
PRODID:-//Friendship People - ECPv6.15.20//NONSGML v1.0//EN
CALSCALE:GREGORIAN
METHOD:PUBLISH
X-WR-CALNAME:Friendship People
X-ORIGINAL-URL:https://friendshippeople.com
X-WR-CALDESC:Events for Friendship People
REFRESH-INTERVAL;VALUE=DURATION:PT1H
X-Robots-Tag:noindex
X-PUBLISHED-TTL:PT1H
BEGIN:VTIMEZONE
TZID:UTC
BEGIN:STANDARD
TZOFFSETFROM:+0000
TZOFFSETTO:+0000
TZNAME:UTC
DTSTART:20240101T000000
END:STANDARD
END:VTIMEZONE
BEGIN:VEVENT
DTSTART;TZID=UTC:20250302T093000
DTEND;TZID=UTC:20250302T093000
DTSTAMP:20260423T174558
CREATED:20250302T160322Z
LAST-MODIFIED:20250302T160322Z
UID:1296-1740907800-1740907800@friendshippeople.com
SUMMARY:Sunday School
DESCRIPTION:
URL:https://friendshippeople.com/event/sunday-school-22/
END:VEVENT
BEGIN:VEVENT
DTSTART;TZID=UTC:20250302T103000
DTEND;TZID=UTC:20250302T103000
DTSTAMP:20260423T174558
CREATED:20250302T161659Z
LAST-MODIFIED:20250302T161659Z
UID:1308-1740911400-1740911400@friendshippeople.com
SUMMARY:Sunday Morning Worship
DESCRIPTION:The Lord is …not willing that any should perish\, but that all should come to repentance.  2 Peter 3:9
URL:https://friendshippeople.com/event/sunday-morning-worship-105/
END:VEVENT
END:VCALENDAR